BEGIN:VCALENDAR
PRODID:-//eluceo/ical//2.0/EN
VERSION:2.0
CALSCALE:GREGORIAN
BEGIN:VEVENT
UID:3d21f8f005b2c4eef18ed1ab4d8bdf69
DTSTAMP:20260420T090010Z
SUMMARY:Statutaire Interclubs du Rotary Club de Pau
DESCRIPTION:Webseite: https://academiebillarddepau.sportsregions.fr/\nRefer
 enten/innen: Marc GINIBRE et Thierry LAPUYADE
URL:https://pau.rotary-1690.org/de/agenda/show/33657
DTSTART;TZID=Europe/Zurich:20230111T190000
DTEND;TZID=Europe/Zurich:20230111T190000
LOCATION:Académie de Billard de Pau - Palais des Congrès
CATEGORIES:Rotary
END:VEVENT
BEGIN:VTIMEZONE
TZID:Europe/Zurich
BEGIN:STANDARD
DTSTART:20230111T190000
TZNAME:CET
TZOFFSETTO:+0100
TZOFFSETFROM:+0100
END:STANDARD
END:VTIMEZONE
END:VCALENDAR
